BEGIN:VCALENDAR
PRODID://WordPress//Event-Post-V5.9.2//EN
VERSION:2.0
BEGIN:VTIMEZONE
TZID:Pacific/Auckland
BEGIN:DAYLIGHT
TZOFFSETFROM:+0100
TZOFFSETTO:+1200
DTSTART:19700329T020000
RRULE:FREQ=YEARLY;BYDAY=-1SU;BYMONTH=3
END:DAYLIGHT
BEGIN:STANDARD
TZOFFSETFROM:+1200
TZOFFSETTO:+0100
TZNAME:CET
DTSTART:19701025T030000
RRULE:FREQ=YEARLY;BYDAY=-1SU;BYMONTH=10
END:STANDARD
END:VTIMEZONE
BEGIN:VEVENT
SUMMARY:Conservation Week // Within the Dark –Why darkness matters &amp; what’s next for Te Tau Ihu
UID:https://www.theboathousenelson.co.nz/within-the-dark-why-darkness-matters-whats-next-for-te-tau-ihu/
LOCATION:
DTSTAMP:20260422T173000
DTSTART;TZID=Pacific/Auckland:20260422T173000
DTEND;TZID=Pacific/Auckland:20260422T210000
DESCRIPTION:Wednesday 22 April 2026 5:30pm - 9:00pm,
Doors open at 5.30 for dinner and drinks, talk starts at 7.
Please register your attendance for this free event HERE.
—
Join Ellen Cieraad, Ralph Bradley and Sean Walker for an inspiring journey
into the value of natural darkness. Discover how night transforms
ecosystems, and what public attitudes mean for conserving our disappearing
night. Hear the behind the scenes story of how Nelson’s Wai iti became
Aotearoa’s first Dark Sky Park and be part of the conversation as
Kahurangi is working on its own Dark Sky application.
A special Conservation Week &amp; Earth Day event. Learn how science,
stewardship, and community come together to protect the night.
END:VEVENT
END:VCALENDAR