BEGIN:VCALENDAR
PRODID://WordPress//Event-Post-V5.9.2//EN
VERSION:2.0
BEGIN:VTIMEZONE
TZID:Pacific/Auckland
BEGIN:DAYLIGHT
TZOFFSETFROM:+0100
TZOFFSETTO:+1200
DTSTART:19700329T020000
RRULE:FREQ=YEARLY;BYDAY=-1SU;BYMONTH=3
END:DAYLIGHT
BEGIN:STANDARD
TZOFFSETFROM:+1200
TZOFFSETTO:+0100
TZNAME:CET
DTSTART:19701025T030000
RRULE:FREQ=YEARLY;BYDAY=-1SU;BYMONTH=10
END:STANDARD
END:VTIMEZONE
BEGIN:VEVENT
SUMMARY:Conservation week // Predator free Nelson - The power of community and conversation
UID:https://www.theboathousenelson.co.nz/conservation-week-predator-free-nelson-the-power-of-community-and-conversation/
LOCATION:
DTSTAMP:20260429T173000
DTSTART;TZID=Pacific/Auckland:20260429T173000
DTEND;TZID=Pacific/Auckland:20260429T210000
DESCRIPTION:Predator free Nelson - The power of community and conversation. Creating
Biodiversity corridors from shared spaces to your back garden.
Wednesday 29 April 2026 5:30pm - 9:00pm. 
Doors open at 5.30 for dinner and drinks, talk starts at 7.
Please register your attendance for this free event HERE.
—
Come and join us for a night of inspirational women working on bringing
people and communities together in Nelson for conservation - Lucy Byrne
(Toi Toi Trappers), Emma Marshall (Rat-To-Tūī Trapping Group) and Nicola
Gabelich (Birdlife on Grampians /Wild About The Grampians) will share the
stories, successes, and lessons on the journey of working towards a
predator and pest free Nelson.
Toi Toi Trappers, Rat-to-tui and Birdlife on Grampians are bringing private
households and shared public land together to develop the vision of the
Nelson Halo and a predator/pest free Nelson. In this unsettled time join us
for a night of community and conversation to discover the benefits of small
actions towards a positive future, how you can get involved in your
neighborhood and the power of community.
END:VEVENT
END:VCALENDAR