BEGIN:VCALENDAR
VERSION:2.0
PRODID:-//The Boathouse Nelson - ECPv6.15.18//NONSGML v1.0//EN
CALSCALE:GREGORIAN
METHOD:PUBLISH
X-WR-CALNAME:The Boathouse Nelson
X-ORIGINAL-URL:https://www.theboathousenelson.co.nz
X-WR-CALDESC:Events for The Boathouse Nelson
REFRESH-INTERVAL;VALUE=DURATION:PT1H
X-Robots-Tag:noindex
X-PUBLISHED-TTL:PT1H
BEGIN:VTIMEZONE
TZID:Pacific/Auckland
BEGIN:STANDARD
TZOFFSETFROM:+1300
TZOFFSETTO:+1200
TZNAME:NZST
DTSTART:20240406T140000
END:STANDARD
BEGIN:DAYLIGHT
TZOFFSETFROM:+1200
TZOFFSETTO:+1300
TZNAME:NZDT
DTSTART:20240928T140000
END:DAYLIGHT
BEGIN:STANDARD
TZOFFSETFROM:+1300
TZOFFSETTO:+1200
TZNAME:NZST
DTSTART:20250405T140000
END:STANDARD
BEGIN:DAYLIGHT
TZOFFSETFROM:+1200
TZOFFSETTO:+1300
TZNAME:NZDT
DTSTART:20250927T140000
END:DAYLIGHT
BEGIN:STANDARD
TZOFFSETFROM:+1300
TZOFFSETTO:+1200
TZNAME:NZST
DTSTART:20260404T140000
END:STANDARD
BEGIN:DAYLIGHT
TZOFFSETFROM:+1200
TZOFFSETTO:+1300
TZNAME:NZDT
DTSTART:20260926T140000
END:DAYLIGHT
BEGIN:STANDARD
TZOFFSETFROM:+1300
TZOFFSETTO:+1200
TZNAME:NZST
DTSTART:20270403T140000
END:STANDARD
BEGIN:DAYLIGHT
TZOFFSETFROM:+1200
TZOFFSETTO:+1300
TZNAME:NZDT
DTSTART:20270925T140000
END:DAYLIGHT
END:VTIMEZONE
BEGIN:VEVENT
DTSTART;VALUE=DATE:20251222
DTEND;VALUE=DATE:20260102
DTSTAMP:20260420T084451
CREATED:20251125T013218Z
LAST-MODIFIED:20251125T013218Z
UID:7871-1766361600-1767311999@www.theboathousenelson.co.nz
SUMMARY:Cafe closed/Christmas + New Year
DESCRIPTION:Cafe closed from Dec 22nd to January 1st \nExcepted for private function on Dec. 27 and NYE Party on Dec. 31st
URL:https://www.theboathousenelson.co.nz/event/cafe-closed-christmas-new-year/
CATEGORIES:Public Holiday
END:VEVENT
BEGIN:VEVENT
DTSTART;VALUE=DATE:20260102
DTEND;VALUE=DATE:20260103
DTSTAMP:20260420T084451
CREATED:20251125T022212Z
LAST-MODIFIED:20251125T022212Z
UID:7879-1767312000-1767398399@www.theboathousenelson.co.nz
SUMMARY:Cafe/Live Music
DESCRIPTION:Cafe all day \nDinner service from 5pm \nLive music from 8pm
URL:https://www.theboathousenelson.co.nz/event/cafe-live-music-9/
CATEGORIES:Cafe / Bar,Live Music
END:VEVENT
BEGIN:VEVENT
DTSTART;VALUE=DATE:20260103
DTEND;VALUE=DATE:20260104
DTSTAMP:20260420T084451
CREATED:20251125T022246Z
LAST-MODIFIED:20251125T022246Z
UID:7881-1767398400-1767484799@www.theboathousenelson.co.nz
SUMMARY:Private hire
DESCRIPTION:Private Hire \nUnavailable to use
URL:https://www.theboathousenelson.co.nz/event/private-hire-13/
CATEGORIES:Hired-not available to use
END:VEVENT
BEGIN:VEVENT
DTSTART;VALUE=DATE:20260109
DTEND;VALUE=DATE:20260110
DTSTAMP:20260420T084451
CREATED:20251125T022332Z
LAST-MODIFIED:20251125T022701Z
UID:7883-1767916800-1768003199@www.theboathousenelson.co.nz
SUMMARY:Cafe/live music
DESCRIPTION:Cafe all day \nDinner service from 5pm \nLive music from 8pm
URL:https://www.theboathousenelson.co.nz/event/cafe-live-music-16/
CATEGORIES:Cafe / Bar,Live Music
END:VEVENT
BEGIN:VEVENT
DTSTART;VALUE=DATE:20260110
DTEND;VALUE=DATE:20260111
DTSTAMP:20260420T084451
CREATED:20251125T022753Z
LAST-MODIFIED:20251125T022753Z
UID:7886-1768003200-1768089599@www.theboathousenelson.co.nz
SUMMARY:Private Hire
DESCRIPTION:Private Hire \nUnavailable to use
URL:https://www.theboathousenelson.co.nz/event/private-hire-14/
CATEGORIES:Hired-not available to use
END:VEVENT
BEGIN:VEVENT
DTSTART;VALUE=DATE:20260112
DTEND;VALUE=DATE:20260113
DTSTAMP:20260420T084451
CREATED:20251125T022945Z
LAST-MODIFIED:20251125T022945Z
UID:7888-1768176000-1768262399@www.theboathousenelson.co.nz
SUMMARY:Private Hire
DESCRIPTION:Private Hire \nUnavailable to use
URL:https://www.theboathousenelson.co.nz/event/private-hire-15/
CATEGORIES:Hired-not available to use
END:VEVENT
BEGIN:VEVENT
DTSTART;VALUE=DATE:20260113
DTEND;VALUE=DATE:20260114
DTSTAMP:20260420T084451
CREATED:20251125T023134Z
LAST-MODIFIED:20260110T025108Z
UID:7890-1768262400-1768348799@www.theboathousenelson.co.nz
SUMMARY:Cafe/Private Hire
DESCRIPTION:Cafe 10am – 2pm \nLive music from 8pm – tickets sold on door
URL:https://www.theboathousenelson.co.nz/event/cafe-private-hire-14/
CATEGORIES:Hired-not available to use
END:VEVENT
BEGIN:VEVENT
DTSTART;TZID=Pacific/Auckland:20260116T100000
DTEND;TZID=Pacific/Auckland:20260116T230000
DTSTAMP:20260420T084451
CREATED:20260115T000026Z
LAST-MODIFIED:20260115T000037Z
UID:8032-1768557600-1768604400@www.theboathousenelson.co.nz
SUMMARY:Cafe/Live Music
DESCRIPTION:Cafe 10am – 2 pm Live music from 8 pm
URL:https://www.theboathousenelson.co.nz/event/cafe-live-music-18/
END:VEVENT
BEGIN:VEVENT
DTSTART;VALUE=DATE:20260117
DTEND;VALUE=DATE:20260118
DTSTAMP:20260420T084451
CREATED:20260115T001758Z
LAST-MODIFIED:20260115T001758Z
UID:8036-1768608000-1768694399@www.theboathousenelson.co.nz
SUMMARY:Private Hire
DESCRIPTION:Private Hire Unavailable to use
URL:https://www.theboathousenelson.co.nz/event/private-hire-16/
END:VEVENT
BEGIN:VEVENT
DTSTART;TZID=Pacific/Auckland:20260122T100000
DTEND;TZID=Pacific/Auckland:20260122T230000
DTSTAMP:20260420T084451
CREATED:20260115T002638Z
LAST-MODIFIED:20260115T002638Z
UID:8038-1769076000-1769122800@www.theboathousenelson.co.nz
SUMMARY:Cafe/Live music
DESCRIPTION:Cafe 10 am – 2 pm \nLive music from 8 pm
URL:https://www.theboathousenelson.co.nz/event/cafe-live-music-19/
END:VEVENT
BEGIN:VEVENT
DTSTART;TZID=Pacific/Auckland:20260123T100000
DTEND;TZID=Pacific/Auckland:20260123T230000
DTSTAMP:20260420T084451
CREATED:20260115T004516Z
LAST-MODIFIED:20260115T004516Z
UID:8044-1769162400-1769209200@www.theboathousenelson.co.nz
SUMMARY:Cafe/Live Music
DESCRIPTION:Cafe 10am – 2 pm \nLive music from 8 pm
URL:https://www.theboathousenelson.co.nz/event/cafe-live-music-20/
END:VEVENT
BEGIN:VEVENT
DTSTART;VALUE=DATE:20260124
DTEND;VALUE=DATE:20260125
DTSTAMP:20260420T084451
CREATED:20260115T004611Z
LAST-MODIFIED:20260115T004611Z
UID:8046-1769212800-1769299199@www.theboathousenelson.co.nz
SUMMARY:Private Hire
DESCRIPTION:Private Hire – Unavailable to use
URL:https://www.theboathousenelson.co.nz/event/private-hire-17/
END:VEVENT
BEGIN:VEVENT
DTSTART;TZID=Pacific/Auckland:20260127T100000
DTEND;TZID=Pacific/Auckland:20260127T230000
DTSTAMP:20260420T084451
CREATED:20260115T004721Z
LAST-MODIFIED:20260115T010418Z
UID:8048-1769508000-1769554800@www.theboathousenelson.co.nz
SUMMARY:Cafe/Private hire
DESCRIPTION:Cafe 10-2 \nPrivate hire from 2 – unavailable to use
URL:https://www.theboathousenelson.co.nz/event/cafe-private-hire-4/
END:VEVENT
BEGIN:VEVENT
DTSTART;VALUE=DATE:20260129
DTEND;VALUE=DATE:20260130
DTSTAMP:20260420T084451
CREATED:20260115T010532Z
LAST-MODIFIED:20260115T010613Z
UID:8051-1769644800-1769731199@www.theboathousenelson.co.nz
SUMMARY:Cafe/Live Music
DESCRIPTION:Cafe 10-2 \nDinner from 5 pm\, book your table now! \nLive music from 8 pm
URL:https://www.theboathousenelson.co.nz/event/cafe-live-music-21/
END:VEVENT
BEGIN:VEVENT
DTSTART;VALUE=DATE:20260130
DTEND;VALUE=DATE:20260131
DTSTAMP:20260420T084451
CREATED:20260115T010651Z
LAST-MODIFIED:20260115T010651Z
UID:8058-1769731200-1769817599@www.theboathousenelson.co.nz
SUMMARY:Cafe/Live Music
DESCRIPTION:Cafe all day \nDinner from 5 pm\, book your table now! \nLive music from 8 pm
URL:https://www.theboathousenelson.co.nz/event/cafe-live-music-22/
END:VEVENT
BEGIN:VEVENT
DTSTART;VALUE=DATE:20260131
DTEND;VALUE=DATE:20260201
DTSTAMP:20260420T084451
CREATED:20260115T014449Z
LAST-MODIFIED:20260115T014449Z
UID:8040-1769817600-1769903999@www.theboathousenelson.co.nz
SUMMARY:Private Hire
DESCRIPTION:Private hire – unavailable to use
URL:https://www.theboathousenelson.co.nz/event/private-hire-18/
END:VEVENT
BEGIN:VEVENT
DTSTART;TZID=Pacific/Auckland:20260203T100000
DTEND;TZID=Pacific/Auckland:20260203T230000
DTSTAMP:20260420T084451
CREATED:20260115T015000Z
LAST-MODIFIED:20260115T015000Z
UID:8065-1770112800-1770159600@www.theboathousenelson.co.nz
SUMMARY:Cafe/Private Hire
DESCRIPTION:Cafe 10-2 \nPrivate Hire after – unavailable to use
URL:https://www.theboathousenelson.co.nz/event/cafe-private-hire-15/
END:VEVENT
BEGIN:VEVENT
DTSTART;TZID=Pacific/Auckland:20260206T170000
DTEND;TZID=Pacific/Auckland:20260206T213000
DTSTAMP:20260420T084451
CREATED:20260115T014742Z
LAST-MODIFIED:20260203T012356Z
UID:8061-1770397200-1770413400@www.theboathousenelson.co.nz
SUMMARY:Waitangi Day: Cafe closed/Live Music
DESCRIPTION:Cafe closed \n**Note to members: you’re welcome to use the facilities during the day\, but need to vacate by 3 pm so dinner service can be setup by our team. \nDinner from 5 pm \nLive music from 7:30 pm
URL:https://www.theboathousenelson.co.nz/event/waitangi-day-cafe-closed-live-music/
END:VEVENT
BEGIN:VEVENT
DTSTART;VALUE=DATE:20260207
DTEND;VALUE=DATE:20260208
DTSTAMP:20260420T084451
CREATED:20260115T014819Z
LAST-MODIFIED:20260115T014819Z
UID:8063-1770422400-1770508799@www.theboathousenelson.co.nz
SUMMARY:Private Hire
DESCRIPTION:Private Hire – Unavailable to use
URL:https://www.theboathousenelson.co.nz/event/private-hire-19/
END:VEVENT
BEGIN:VEVENT
DTSTART;TZID=Pacific/Auckland:20260213T100000
DTEND;TZID=Pacific/Auckland:20260213T223000
DTSTAMP:20260420T084451
CREATED:20260115T015254Z
LAST-MODIFIED:20260115T015254Z
UID:8067-1770976800-1771021800@www.theboathousenelson.co.nz
SUMMARY:Cafe/Live Music
DESCRIPTION:Cafe all day \nDinner from 5 pm \nLive Music from 7:30 pm
URL:https://www.theboathousenelson.co.nz/event/cafe-live-music-23/
END:VEVENT
BEGIN:VEVENT
DTSTART;VALUE=DATE:20260214
DTEND;VALUE=DATE:20260215
DTSTAMP:20260420T084451
CREATED:20260115T015723Z
LAST-MODIFIED:20260115T015723Z
UID:8069-1771027200-1771113599@www.theboathousenelson.co.nz
SUMMARY:Private Hire
DESCRIPTION:Private Hire – Unavailable to use
URL:https://www.theboathousenelson.co.nz/event/private-hire-20/
END:VEVENT
BEGIN:VEVENT
DTSTART;TZID=Pacific/Auckland:20260219T100000
DTEND;TZID=Pacific/Auckland:20260219T230000
DTSTAMP:20260420T084451
CREATED:20260115T020211Z
LAST-MODIFIED:20260115T020211Z
UID:8071-1771495200-1771542000@www.theboathousenelson.co.nz
SUMMARY:Cafe/Live Music
DESCRIPTION:Cafe 10-2 \nDinner from 5 pm – book your table now! \nLive music from 8 pm
URL:https://www.theboathousenelson.co.nz/event/cafe-live-music-17/
END:VEVENT
BEGIN:VEVENT
DTSTART;TZID=Pacific/Auckland:20260220T100000
DTEND;TZID=Pacific/Auckland:20260220T213000
DTSTAMP:20260420T084451
CREATED:20260115T020426Z
LAST-MODIFIED:20260115T020426Z
UID:8073-1771581600-1771623000@www.theboathousenelson.co.nz
SUMMARY:Cafe/Live Music
DESCRIPTION:Cafe all day \nDinner from 5 pm – book your table now! \nLive music from 7:30 pm
URL:https://www.theboathousenelson.co.nz/event/cafe-live-music-24/
END:VEVENT
BEGIN:VEVENT
DTSTART;VALUE=DATE:20260221
DTEND;VALUE=DATE:20260222
DTSTAMP:20260420T084451
CREATED:20260115T020459Z
LAST-MODIFIED:20260115T020459Z
UID:8075-1771632000-1771718399@www.theboathousenelson.co.nz
SUMMARY:Private Hire
DESCRIPTION:Private Hire – Unavailable to use
URL:https://www.theboathousenelson.co.nz/event/private-hire-21/
END:VEVENT
BEGIN:VEVENT
DTSTART;VALUE=DATE:20260223
DTEND;VALUE=DATE:20260226
DTSTAMP:20260420T084451
CREATED:20260115T020635Z
LAST-MODIFIED:20260115T020635Z
UID:8077-1771804800-1772063999@www.theboathousenelson.co.nz
SUMMARY:Private Hire/Cafe Closed
DESCRIPTION:Cafe closed from Feb 23-25 \nPrivate Hire – Unavailable to use
URL:https://www.theboathousenelson.co.nz/event/private-hire-cafe-closed/
END:VEVENT
BEGIN:VEVENT
DTSTART;VALUE=DATE:20260226
DTEND;VALUE=DATE:20260227
DTSTAMP:20260420T084451
CREATED:20260115T020823Z
LAST-MODIFIED:20260115T020823Z
UID:8079-1772064000-1772150399@www.theboathousenelson.co.nz
SUMMARY:Cafe/Private Hire
DESCRIPTION:Cafe 10-2 \nPrivate hire after – unavailable to use
URL:https://www.theboathousenelson.co.nz/event/cafe-private-hire-16/
END:VEVENT
BEGIN:VEVENT
DTSTART;TZID=Pacific/Auckland:20260227T100000
DTEND;TZID=Pacific/Auckland:20260227T223000
DTSTAMP:20260420T084451
CREATED:20260115T021023Z
LAST-MODIFIED:20260115T021023Z
UID:8083-1772186400-1772231400@www.theboathousenelson.co.nz
SUMMARY:Cafe/Live Music
DESCRIPTION:Cafe all day \nDinner from 5 pm \nLive music from 7:30
URL:https://www.theboathousenelson.co.nz/event/cafe-live-music-25/
END:VEVENT
BEGIN:VEVENT
DTSTART;VALUE=DATE:20260228
DTEND;VALUE=DATE:20260301
DTSTAMP:20260420T084451
CREATED:20260115T020907Z
LAST-MODIFIED:20260115T020907Z
UID:8081-1772236800-1772323199@www.theboathousenelson.co.nz
SUMMARY:Private Hire
DESCRIPTION:Private Hire – Unavailable to use
URL:https://www.theboathousenelson.co.nz/event/private-hire-22/
END:VEVENT
BEGIN:VEVENT
DTSTART;TZID=Pacific/Auckland:20260315T160000
DTEND;TZID=Pacific/Auckland:20260315T220000
DTSTAMP:20260420T084451
CREATED:20260315T031003Z
LAST-MODIFIED:20260315T031003Z
UID:8169-1773590400-1773612000@www.theboathousenelson.co.nz
SUMMARY:Live music @night
DESCRIPTION:Live music 6 pm – unavailable to use from 4 pm \nDinner service from 5 – book your table
URL:https://www.theboathousenelson.co.nz/event/live-music-night/
CATEGORIES:Live Music
END:VEVENT
BEGIN:VEVENT
DTSTART;VALUE=DATE:20260318
DTEND;VALUE=DATE:20260319
DTSTAMP:20260420T084451
CREATED:20260315T031121Z
LAST-MODIFIED:20260315T031121Z
UID:8171-1773792000-1773878399@www.theboathousenelson.co.nz
SUMMARY:Cafe/Private Hire
DESCRIPTION:Cafe 10-2 \nPrivate hire after – unavailable to use
URL:https://www.theboathousenelson.co.nz/event/cafe-private-hire-17/
CATEGORIES:Hired-not available to use
END:VEVENT
END:VCALENDAR