BEGIN:VCALENDAR
VERSION:2.0
PRODID:-//The Boathouse Nelson - ECPv6.15.18//NONSGML v1.0//EN
CALSCALE:GREGORIAN
METHOD:PUBLISH
X-WR-CALNAME:The Boathouse Nelson
X-ORIGINAL-URL:https://www.theboathousenelson.co.nz
X-WR-CALDESC:Events for The Boathouse Nelson
REFRESH-INTERVAL;VALUE=DURATION:PT1H
X-Robots-Tag:noindex
X-PUBLISHED-TTL:PT1H
BEGIN:VTIMEZONE
TZID:Pacific/Auckland
BEGIN:STANDARD
TZOFFSETFROM:+1300
TZOFFSETTO:+1200
TZNAME:NZST
DTSTART:20250405T140000
END:STANDARD
BEGIN:DAYLIGHT
TZOFFSETFROM:+1200
TZOFFSETTO:+1300
TZNAME:NZDT
DTSTART:20250927T140000
END:DAYLIGHT
BEGIN:STANDARD
TZOFFSETFROM:+1300
TZOFFSETTO:+1200
TZNAME:NZST
DTSTART:20260404T140000
END:STANDARD
BEGIN:DAYLIGHT
TZOFFSETFROM:+1200
TZOFFSETTO:+1300
TZNAME:NZDT
DTSTART:20260926T140000
END:DAYLIGHT
BEGIN:STANDARD
TZOFFSETFROM:+1300
TZOFFSETTO:+1200
TZNAME:NZST
DTSTART:20270403T140000
END:STANDARD
BEGIN:DAYLIGHT
TZOFFSETFROM:+1200
TZOFFSETTO:+1300
TZNAME:NZDT
DTSTART:20270925T140000
END:DAYLIGHT
END:VTIMEZONE
BEGIN:VEVENT
DTSTART;VALUE=DATE:20260228
DTEND;VALUE=DATE:20260301
DTSTAMP:20260420T120943
CREATED:20260115T020907Z
LAST-MODIFIED:20260115T020907Z
UID:8081-1772236800-1772323199@www.theboathousenelson.co.nz
SUMMARY:Private Hire
DESCRIPTION:Private Hire – Unavailable to use
URL:https://www.theboathousenelson.co.nz/event/private-hire-22/
END:VEVENT
BEGIN:VEVENT
DTSTART;TZID=Pacific/Auckland:20260315T160000
DTEND;TZID=Pacific/Auckland:20260315T220000
DTSTAMP:20260420T120943
CREATED:20260315T031003Z
LAST-MODIFIED:20260315T031003Z
UID:8169-1773590400-1773612000@www.theboathousenelson.co.nz
SUMMARY:Live music @night
DESCRIPTION:Live music 6 pm – unavailable to use from 4 pm \nDinner service from 5 – book your table
URL:https://www.theboathousenelson.co.nz/event/live-music-night/
CATEGORIES:Live Music
END:VEVENT
BEGIN:VEVENT
DTSTART;VALUE=DATE:20260318
DTEND;VALUE=DATE:20260319
DTSTAMP:20260420T120943
CREATED:20260315T031121Z
LAST-MODIFIED:20260315T031121Z
UID:8171-1773792000-1773878399@www.theboathousenelson.co.nz
SUMMARY:Cafe/Private Hire
DESCRIPTION:Cafe 10-2 \nPrivate hire after – unavailable to use
URL:https://www.theboathousenelson.co.nz/event/cafe-private-hire-17/
CATEGORIES:Hired-not available to use
END:VEVENT
BEGIN:VEVENT
DTSTART;VALUE=DATE:20260319
DTEND;VALUE=DATE:20260320
DTSTAMP:20260420T120943
CREATED:20260315T031253Z
LAST-MODIFIED:20260315T031253Z
UID:8173-1773878400-1773964799@www.theboathousenelson.co.nz
SUMMARY:Cafe/Private Hire
DESCRIPTION:Cafe 10-2 \nPrivate hire after – unavailable to use
URL:https://www.theboathousenelson.co.nz/event/cafe-private-hire-18/
CATEGORIES:Hired-not available to use
END:VEVENT
BEGIN:VEVENT
DTSTART;VALUE=DATE:20260320
DTEND;VALUE=DATE:20260321
DTSTAMP:20260420T120943
CREATED:20260315T031403Z
LAST-MODIFIED:20260315T031403Z
UID:8175-1773964800-1774051199@www.theboathousenelson.co.nz
SUMMARY:Cafe/Live Music
DESCRIPTION:Cafe all day \nDinner from 5 pm – book your table \nLive music from 8 pm (SOLD OUT!)
URL:https://www.theboathousenelson.co.nz/event/cafe-live-music-26/
CATEGORIES:Cafe / Bar,Live Music
END:VEVENT
BEGIN:VEVENT
DTSTART;VALUE=DATE:20260321
DTEND;VALUE=DATE:20260322
DTSTAMP:20260420T120943
CREATED:20260315T031501Z
LAST-MODIFIED:20260315T031501Z
UID:8177-1774051200-1774137599@www.theboathousenelson.co.nz
SUMMARY:Private Hire
DESCRIPTION:Private Hire – Unavailable to use
URL:https://www.theboathousenelson.co.nz/event/private-hire-7/
CATEGORIES:Hired-not available to use
END:VEVENT
BEGIN:VEVENT
DTSTART;VALUE=DATE:20260323
DTEND;VALUE=DATE:20260324
DTSTAMP:20260420T120943
CREATED:20260315T031545Z
LAST-MODIFIED:20260315T031545Z
UID:8179-1774224000-1774310399@www.theboathousenelson.co.nz
SUMMARY:Private Hire
DESCRIPTION:Private Hire – Unavailable to use
URL:https://www.theboathousenelson.co.nz/event/private-hire-8/
CATEGORIES:Hired-not available to use
END:VEVENT
BEGIN:VEVENT
DTSTART;VALUE=DATE:20260326
DTEND;VALUE=DATE:20260327
DTSTAMP:20260420T120943
CREATED:20260315T032136Z
LAST-MODIFIED:20260315T032136Z
UID:8181-1774483200-1774569599@www.theboathousenelson.co.nz
SUMMARY:Cafe/Private Hire
DESCRIPTION:Cafe 10-2 \nPrivate hire after – unavailable to use
URL:https://www.theboathousenelson.co.nz/event/cafe-private-hire-19/
CATEGORIES:Cafe / Bar,Hired-not available to use
END:VEVENT
BEGIN:VEVENT
DTSTART;VALUE=DATE:20260327
DTEND;VALUE=DATE:20260328
DTSTAMP:20260420T120943
CREATED:20260315T032315Z
LAST-MODIFIED:20260315T032315Z
UID:8183-1774569600-1774655999@www.theboathousenelson.co.nz
SUMMARY:Cafe/Live Music
DESCRIPTION:Cafe all day \nDinner from 5 pm – book your table \nLive music from 8 pm – tickets HERE
URL:https://www.theboathousenelson.co.nz/event/cafe-live-music-27/
END:VEVENT
BEGIN:VEVENT
DTSTART;TZID=Pacific/Auckland:20260328T120000
DTEND;TZID=Pacific/Auckland:20260328T233000
DTSTAMP:20260420T120943
CREATED:20260315T032456Z
LAST-MODIFIED:20260315T032456Z
UID:8185-1774699200-1774740600@www.theboathousenelson.co.nz
SUMMARY:Live Music
DESCRIPTION:Live Music from 6 pm – tickets HERE \nDinner Pub Grub from 5 pm
URL:https://www.theboathousenelson.co.nz/event/live-music-2/
CATEGORIES:Live Music
END:VEVENT
BEGIN:VEVENT
DTSTART;VALUE=DATE:20260402
DTEND;VALUE=DATE:20260403
DTSTAMP:20260420T120943
CREATED:20260224T030519Z
LAST-MODIFIED:20260224T030537Z
UID:8139-1775088000-1775174399@www.theboathousenelson.co.nz
SUMMARY:Cafe/Gig
DESCRIPTION:Cafe all day \nDinner from 5 pm \nSELENE (play) from 7:30
URL:https://www.theboathousenelson.co.nz/event/cafe-gig/
END:VEVENT
BEGIN:VEVENT
DTSTART;VALUE=DATE:20260403
DTEND;VALUE=DATE:20260404
DTSTAMP:20260420T120943
CREATED:20260315T032620Z
LAST-MODIFIED:20260315T032620Z
UID:8187-1775174400-1775260799@www.theboathousenelson.co.nz
SUMMARY:Cafe/Private Hire
DESCRIPTION:Cafe all day \nPrivate hire after – unavailable to use
URL:https://www.theboathousenelson.co.nz/event/cafe-private-hire-20/
CATEGORIES:Cafe / Bar,Hired-not available to use
END:VEVENT
BEGIN:VEVENT
DTSTART;VALUE=DATE:20260404
DTEND;VALUE=DATE:20260405
DTSTAMP:20260420T120943
CREATED:20260315T032700Z
LAST-MODIFIED:20260315T032700Z
UID:8189-1775260800-1775347199@www.theboathousenelson.co.nz
SUMMARY:Private Hire
DESCRIPTION:Private Hire – unavailable to use
URL:https://www.theboathousenelson.co.nz/event/private-hire-9/
CATEGORIES:Hired-not available to use
END:VEVENT
BEGIN:VEVENT
DTSTART;VALUE=DATE:20260408
DTEND;VALUE=DATE:20260409
DTSTAMP:20260420T120943
CREATED:20260315T032802Z
LAST-MODIFIED:20260315T032802Z
UID:8191-1775606400-1775692799@www.theboathousenelson.co.nz
SUMMARY:Cafe/Private Hire
DESCRIPTION:Cafe 10-2 \nPrivate Hiring after – unavailable to use
URL:https://www.theboathousenelson.co.nz/event/cafe-private-hire-21/
CATEGORIES:Cafe / Bar,Hired-not available to use
END:VEVENT
BEGIN:VEVENT
DTSTART;VALUE=DATE:20260410
DTEND;VALUE=DATE:20260411
DTSTAMP:20260420T120943
CREATED:20260315T032918Z
LAST-MODIFIED:20260315T032918Z
UID:8193-1775779200-1775865599@www.theboathousenelson.co.nz
SUMMARY:Cafe/Live Music
DESCRIPTION:Cafe all day \nDinner from 5 pm – book your table \nLive music from 8 pm – tickets HERE
URL:https://www.theboathousenelson.co.nz/event/cafe-live-music-28/
CATEGORIES:Cafe / Bar,Live Music
END:VEVENT
BEGIN:VEVENT
DTSTART;VALUE=DATE:20260411
DTEND;VALUE=DATE:20260412
DTSTAMP:20260420T120943
CREATED:20260315T033008Z
LAST-MODIFIED:20260315T033008Z
UID:8195-1775865600-1775951999@www.theboathousenelson.co.nz
SUMMARY:Private Hire
DESCRIPTION:Private Hire – Unavailable to use
URL:https://www.theboathousenelson.co.nz/event/private-hire-23/
CATEGORIES:Hired-not available to use
END:VEVENT
BEGIN:VEVENT
DTSTART;VALUE=DATE:20260414
DTEND;VALUE=DATE:20260415
DTSTAMP:20260420T120943
CREATED:20260315T033135Z
LAST-MODIFIED:20260315T033135Z
UID:8197-1776124800-1776211199@www.theboathousenelson.co.nz
SUMMARY:Cafe/Private Hire
DESCRIPTION:Cafe 10-2 \nPrivate hire after – unavailable to use
URL:https://www.theboathousenelson.co.nz/event/cafe-private-hire-22/
CATEGORIES:Hired-not available to use
END:VEVENT
BEGIN:VEVENT
DTSTART;VALUE=DATE:20260415
DTEND;VALUE=DATE:20260416
DTSTAMP:20260420T120943
CREATED:20260315T033215Z
LAST-MODIFIED:20260315T033215Z
UID:8199-1776211200-1776297599@www.theboathousenelson.co.nz
SUMMARY:Cafe/Private Hire
DESCRIPTION:Cafe 10-2 \nPrivate hire after – unavailable to use
URL:https://www.theboathousenelson.co.nz/event/cafe-private-hire-23/
CATEGORIES:Cafe / Bar,Hired-not available to use
END:VEVENT
BEGIN:VEVENT
DTSTART;VALUE=DATE:20260416
DTEND;VALUE=DATE:20260417
DTSTAMP:20260420T120943
CREATED:20260315T033253Z
LAST-MODIFIED:20260315T033253Z
UID:8201-1776297600-1776383999@www.theboathousenelson.co.nz
SUMMARY:Cafe/Private Hire
DESCRIPTION:Cafe 10-2 \nPrivate hire after – unavailable to use
URL:https://www.theboathousenelson.co.nz/event/cafe-private-hire-24/
CATEGORIES:Cafe / Bar,Hired-not available to use
END:VEVENT
BEGIN:VEVENT
DTSTART;VALUE=DATE:20260417
DTEND;VALUE=DATE:20260418
DTSTAMP:20260420T120943
CREATED:20260315T033421Z
LAST-MODIFIED:20260315T033421Z
UID:8203-1776384000-1776470399@www.theboathousenelson.co.nz
SUMMARY:Cafe/Live Music
DESCRIPTION:Cafe all day \nDinner from 5 pm – book your table \nLive music from 8 pm – tickets HERE
URL:https://www.theboathousenelson.co.nz/event/cafe-live-music-29/
CATEGORIES:Cafe / Bar,Live Music
END:VEVENT
BEGIN:VEVENT
DTSTART;VALUE=DATE:20260420
DTEND;VALUE=DATE:20260421
DTSTAMP:20260420T120943
CREATED:20260315T033519Z
LAST-MODIFIED:20260315T033519Z
UID:8205-1776643200-1776729599@www.theboathousenelson.co.nz
SUMMARY:Private Hire
DESCRIPTION:Private Hire – Unavailable to use
URL:https://www.theboathousenelson.co.nz/event/private-hire-24/
CATEGORIES:Hired-not available to use
END:VEVENT
BEGIN:VEVENT
DTSTART;VALUE=DATE:20260421
DTEND;VALUE=DATE:20260422
DTSTAMP:20260420T120943
CREATED:20260315T033608Z
LAST-MODIFIED:20260315T033608Z
UID:8207-1776729600-1776815999@www.theboathousenelson.co.nz
SUMMARY:Cafe/Private Hire
DESCRIPTION:Cafe 10-2 \nPrivate hire after – unavailable to use
URL:https://www.theboathousenelson.co.nz/event/cafe-private-hire-25/
CATEGORIES:Cafe / Bar,Hired-not available to use
END:VEVENT
BEGIN:VEVENT
DTSTART;VALUE=DATE:20260422
DTEND;VALUE=DATE:20260423
DTSTAMP:20260420T120943
CREATED:20260315T033649Z
LAST-MODIFIED:20260315T033649Z
UID:8209-1776816000-1776902399@www.theboathousenelson.co.nz
SUMMARY:Cafe/Private Hire
DESCRIPTION:Cafe 10-2 \nPrivate hire after – unavailable to use
URL:https://www.theboathousenelson.co.nz/event/cafe-private-hire-26/
CATEGORIES:Cafe / Bar,Hired-not available to use
END:VEVENT
BEGIN:VEVENT
DTSTART;VALUE=DATE:20260423
DTEND;VALUE=DATE:20260424
DTSTAMP:20260420T120943
CREATED:20260315T033829Z
LAST-MODIFIED:20260315T033829Z
UID:8211-1776902400-1776988799@www.theboathousenelson.co.nz
SUMMARY:Cafe/Comedy
DESCRIPTION:Cafe 10-2 \nDinner from 5 pm – book your table \nPaul Ego (Comedy night) from 7:30 – tickets HERE
URL:https://www.theboathousenelson.co.nz/event/cafe-comedy/
CATEGORIES:Cafe / Bar,Live show
END:VEVENT
BEGIN:VEVENT
DTSTART;VALUE=DATE:20260425
DTEND;VALUE=DATE:20260426
DTSTAMP:20260420T120943
CREATED:20260315T034015Z
LAST-MODIFIED:20260315T034015Z
UID:8213-1777075200-1777161599@www.theboathousenelson.co.nz
SUMMARY:Dinner/Live Music
DESCRIPTION:Dinner from 5 pm – book your table \nLive music from 8 pm – tickets HERE
URL:https://www.theboathousenelson.co.nz/event/dinner-live-music/
CATEGORIES:Cafe / Bar,Live Music
END:VEVENT
BEGIN:VEVENT
DTSTART;VALUE=DATE:20260428
DTEND;VALUE=DATE:20260429
DTSTAMP:20260420T120943
CREATED:20260315T034124Z
LAST-MODIFIED:20260315T034124Z
UID:8215-1777334400-1777420799@www.theboathousenelson.co.nz
SUMMARY:Cafe/Private Hire
DESCRIPTION:Cafe 10-2 \nPrivate hire after – unavailable to use
URL:https://www.theboathousenelson.co.nz/event/cafe-private-hire-27/
CATEGORIES:Cafe / Bar,Hired-not available to use
END:VEVENT
BEGIN:VEVENT
DTSTART;VALUE=DATE:20260429
DTEND;VALUE=DATE:20260430
DTSTAMP:20260420T120943
CREATED:20260315T034154Z
LAST-MODIFIED:20260315T034154Z
UID:8217-1777420800-1777507199@www.theboathousenelson.co.nz
SUMMARY:Cafe/Private Hire
DESCRIPTION:Cafe 10-2 \nPrivate hire after – unavailable to use
URL:https://www.theboathousenelson.co.nz/event/cafe-private-hire-28/
CATEGORIES:Cafe / Bar,Hired-not available to use
END:VEVENT
BEGIN:VEVENT
DTSTART;VALUE=DATE:20260430
DTEND;VALUE=DATE:20260501
DTSTAMP:20260420T120943
CREATED:20260315T034231Z
LAST-MODIFIED:20260315T034231Z
UID:8219-1777507200-1777593599@www.theboathousenelson.co.nz
SUMMARY:Cafe/Private Hire
DESCRIPTION:Cafe 10-2 \nPrivate hire after – unavailable to use
URL:https://www.theboathousenelson.co.nz/event/cafe-private-hire-29/
CATEGORIES:Cafe / Bar,Hired-not available to use
END:VEVENT
BEGIN:VEVENT
DTSTART;VALUE=DATE:20260501
DTEND;VALUE=DATE:20260502
DTSTAMP:20260420T120943
CREATED:20260315T034409Z
LAST-MODIFIED:20260315T034409Z
UID:8221-1777593600-1777679999@www.theboathousenelson.co.nz
SUMMARY:Cafe/Live Music
DESCRIPTION:Cafe all day \nDinner from 5 pm – book your table \nLive music from 8 pm – tickets HERE
URL:https://www.theboathousenelson.co.nz/event/cafe-live-music-30/
CATEGORIES:Cafe / Bar,Live Music
END:VEVENT
BEGIN:VEVENT
DTSTART;VALUE=DATE:20260502
DTEND;VALUE=DATE:20260503
DTSTAMP:20260420T120943
CREATED:20260315T034446Z
LAST-MODIFIED:20260315T034446Z
UID:8223-1777680000-1777766399@www.theboathousenelson.co.nz
SUMMARY:Private Hire
DESCRIPTION:Private Hire – Unavailable to use
URL:https://www.theboathousenelson.co.nz/event/private-hire-25/
CATEGORIES:Hired-not available to use
END:VEVENT
END:VCALENDAR