BEGIN:VCALENDAR
VERSION:2.0
PRODID:-//The Boathouse Nelson - ECPv6.15.18//NONSGML v1.0//EN
CALSCALE:GREGORIAN
METHOD:PUBLISH
X-WR-CALNAME:The Boathouse Nelson
X-ORIGINAL-URL:https://www.theboathousenelson.co.nz
X-WR-CALDESC:Events for The Boathouse Nelson
REFRESH-INTERVAL;VALUE=DURATION:PT1H
X-Robots-Tag:noindex
X-PUBLISHED-TTL:PT1H
BEGIN:VTIMEZONE
TZID:Pacific/Auckland
BEGIN:STANDARD
TZOFFSETFROM:+1300
TZOFFSETTO:+1200
TZNAME:NZST
DTSTART:20240406T140000
END:STANDARD
BEGIN:DAYLIGHT
TZOFFSETFROM:+1200
TZOFFSETTO:+1300
TZNAME:NZDT
DTSTART:20240928T140000
END:DAYLIGHT
BEGIN:STANDARD
TZOFFSETFROM:+1300
TZOFFSETTO:+1200
TZNAME:NZST
DTSTART:20250405T140000
END:STANDARD
BEGIN:DAYLIGHT
TZOFFSETFROM:+1200
TZOFFSETTO:+1300
TZNAME:NZDT
DTSTART:20250927T140000
END:DAYLIGHT
BEGIN:STANDARD
TZOFFSETFROM:+1300
TZOFFSETTO:+1200
TZNAME:NZST
DTSTART:20260404T140000
END:STANDARD
BEGIN:DAYLIGHT
TZOFFSETFROM:+1200
TZOFFSETTO:+1300
TZNAME:NZDT
DTSTART:20260926T140000
END:DAYLIGHT
END:VTIMEZONE
BEGIN:VEVENT
DTSTART;VALUE=DATE:20251204
DTEND;VALUE=DATE:20251205
DTSTAMP:20260420T171431
CREATED:20251125T003613Z
LAST-MODIFIED:20251125T003613Z
UID:7847-1764806400-1764892799@www.theboathousenelson.co.nz
SUMMARY:Cafe/Private Hire
DESCRIPTION:Cafe 10am-2pm \nPrivate hire from 2 pm
URL:https://www.theboathousenelson.co.nz/event/cafe-private-hire-7/
CATEGORIES:Cafe / Bar,Hired-not available to use
END:VEVENT
BEGIN:VEVENT
DTSTART;TZID=Pacific/Auckland:20251203T093000
DTEND;TZID=Pacific/Auckland:20251203T093000
DTSTAMP:20260420T171431
CREATED:20251125T003213Z
LAST-MODIFIED:20251125T003213Z
UID:7841-1764754200-1764754200@www.theboathousenelson.co.nz
SUMMARY:Cafe/Private Hire
DESCRIPTION:Cafe 10am-2pm private hire from 5 pm
URL:https://www.theboathousenelson.co.nz/event/cafe-private-hire-3/
CATEGORIES:Hired-not available to use
END:VEVENT
BEGIN:VEVENT
DTSTART;VALUE=DATE:20251129
DTEND;VALUE=DATE:20251130
DTSTAMP:20260420T171431
CREATED:20251113T013727Z
LAST-MODIFIED:20251113T013727Z
UID:7835-1764374400-1764460799@www.theboathousenelson.co.nz
SUMMARY:Private Hire
DESCRIPTION:Private hire unavailable to use
URL:https://www.theboathousenelson.co.nz/event/private-hire-5/
CATEGORIES:Hired-not available to use
END:VEVENT
BEGIN:VEVENT
DTSTART;VALUE=DATE:20251128
DTEND;VALUE=DATE:20251129
DTSTAMP:20260420T171431
CREATED:20251113T013636Z
LAST-MODIFIED:20251113T013636Z
UID:7833-1764288000-1764374399@www.theboathousenelson.co.nz
SUMMARY:Cafe/Live music
DESCRIPTION:Cafe all day \nLive music from 8
URL:https://www.theboathousenelson.co.nz/event/cafe-live-music-12/
CATEGORIES:Cafe / Bar,Live Music
END:VEVENT
BEGIN:VEVENT
DTSTART;VALUE=DATE:20251126
DTEND;VALUE=DATE:20251127
DTSTAMP:20260420T171431
CREATED:20251113T013459Z
LAST-MODIFIED:20251113T013459Z
UID:7831-1764115200-1764201599@www.theboathousenelson.co.nz
SUMMARY:Cafe/Private Hire
DESCRIPTION:Private hire unavailable to use
URL:https://www.theboathousenelson.co.nz/event/cafe-private-hire/
CATEGORIES:Hired-not available to use
END:VEVENT
BEGIN:VEVENT
DTSTART;VALUE=DATE:20251125
DTEND;VALUE=DATE:20251126
DTSTAMP:20260420T171431
CREATED:20251125T003902Z
LAST-MODIFIED:20251125T003902Z
UID:7851-1764028800-1764115199@www.theboathousenelson.co.nz
SUMMARY:Cafe/Private Hire
DESCRIPTION:Cafe 10am-2pm \nPrivate hire from 6 pm
URL:https://www.theboathousenelson.co.nz/event/cafe-private-hire-8/
CATEGORIES:Cafe / Bar,Hired-not available to use
END:VEVENT
BEGIN:VEVENT
DTSTART;VALUE=DATE:20251124
DTEND;VALUE=DATE:20251125
DTSTAMP:20260420T171431
CREATED:20251113T013142Z
LAST-MODIFIED:20251113T013142Z
UID:7827-1763942400-1764028799@www.theboathousenelson.co.nz
SUMMARY:Private Hire
DESCRIPTION:Private hire unavailable to use
URL:https://www.theboathousenelson.co.nz/event/private-hire-3/
CATEGORIES:Hired-not available to use
END:VEVENT
BEGIN:VEVENT
DTSTART;VALUE=DATE:20251122
DTEND;VALUE=DATE:20251123
DTSTAMP:20260420T171431
CREATED:20251113T012420Z
LAST-MODIFIED:20251113T012444Z
UID:7822-1763769600-1763855999@www.theboathousenelson.co.nz
SUMMARY:Private hire
DESCRIPTION:Private hire unavailable to use
URL:https://www.theboathousenelson.co.nz/event/private-hire/
CATEGORIES:Hired-not available to use
END:VEVENT
BEGIN:VEVENT
DTSTART;VALUE=DATE:20251121
DTEND;VALUE=DATE:20251122
DTSTAMP:20260420T171431
CREATED:20251113T012206Z
LAST-MODIFIED:20251113T013319Z
UID:7820-1763683200-1763769599@www.theboathousenelson.co.nz
SUMMARY:Cafe/live music
DESCRIPTION:Cafe all day\, live music from 8pm\,
URL:https://www.theboathousenelson.co.nz/event/cafe-live-music-11/
CATEGORIES:Cafe / Bar,Live Music
END:VEVENT
BEGIN:VEVENT
DTSTART;TZID=Pacific/Auckland:20251117T170000
DTEND;TZID=Pacific/Auckland:20251117T190000
DTSTAMP:20260420T171431
CREATED:20251113T012645Z
LAST-MODIFIED:20251113T013010Z
UID:7825-1763398800-1763406000@www.theboathousenelson.co.nz
SUMMARY:Private hire
DESCRIPTION:Private hire from 5pm-7pm \nUnavailable to use
URL:https://www.theboathousenelson.co.nz/event/private-hire-2/
CATEGORIES:Hired-not available to use
END:VEVENT
BEGIN:VEVENT
DTSTART;VALUE=DATE:20251115
DTEND;VALUE=DATE:20251116
DTSTAMP:20260420T171431
CREATED:20250918T014522Z
LAST-MODIFIED:20251113T013039Z
UID:7710-1763164800-1763251199@www.theboathousenelson.co.nz
SUMMARY:Private hire
DESCRIPTION:Sat 15th november Private hire unavailable to use
URL:https://www.theboathousenelson.co.nz/event/private-hire-11/
CATEGORIES:Hired-not available to use
END:VEVENT
BEGIN:VEVENT
DTSTART;VALUE=DATE:20251114
DTEND;VALUE=DATE:20251115
DTSTAMP:20260420T171431
CREATED:20250918T014029Z
LAST-MODIFIED:20250918T014029Z
UID:7706-1763078400-1763164799@www.theboathousenelson.co.nz
SUMMARY:Cafe/live music
DESCRIPTION:Fri 14th november\, \nCafe 10am-2pm\, live music from 8pm\, \n 
URL:https://www.theboathousenelson.co.nz/event/cafe-live-music-8/
END:VEVENT
BEGIN:VEVENT
DTSTART;VALUE=DATE:20251113
DTEND;VALUE=DATE:20251114
DTSTAMP:20260420T171431
CREATED:20250918T013440Z
LAST-MODIFIED:20250918T013440Z
UID:7707-1762992000-1763078399@www.theboathousenelson.co.nz
SUMMARY:Cafe/Private hire
DESCRIPTION:Thurs 13th november \nCafe 10am-2pm\, hired unavailable to use. \n 
URL:https://www.theboathousenelson.co.nz/event/cafe-private-hire-12/
LOCATION:The Boathouse
END:VEVENT
BEGIN:VEVENT
DTSTART;VALUE=DATE:20251112
DTEND;VALUE=DATE:20251113
DTSTAMP:20260420T171431
CREATED:20250918T005943Z
LAST-MODIFIED:20250918T005943Z
UID:7704-1762905600-1762991999@www.theboathousenelson.co.nz
SUMMARY:Cafe/ private hire
DESCRIPTION:Wed 12th November\, \ncafe 10am-2pm\, hired unavailable to hire
URL:https://www.theboathousenelson.co.nz/event/cafe-private-hire-11/
LOCATION:The Boathouse
CATEGORIES:Cafe / Bar,Live Music,Live show
END:VEVENT
BEGIN:VEVENT
DTSTART;VALUE=DATE:20251108
DTEND;VALUE=DATE:20251109
DTSTAMP:20260420T171431
CREATED:20250918T005551Z
LAST-MODIFIED:20250918T005551Z
UID:7702-1762560000-1762646399@www.theboathousenelson.co.nz
SUMMARY:Private-Hire
DESCRIPTION:Saturday 8th november\, \nHired unavailable to use
URL:https://www.theboathousenelson.co.nz/event/private-hire-10/
END:VEVENT
BEGIN:VEVENT
DTSTART;VALUE=DATE:20251107
DTEND;VALUE=DATE:20251108
DTSTAMP:20260420T171431
CREATED:20250918T005400Z
LAST-MODIFIED:20251029T234726Z
UID:7700-1762473600-1762559999@www.theboathousenelson.co.nz
SUMMARY:Cafe/ Live music
DESCRIPTION:Fri 7th November \nCafe 10am-2pm\, shades of Shakti – 8pm
URL:https://www.theboathousenelson.co.nz/event/cafe-live-music-7/
LOCATION:The Boathouse
END:VEVENT
BEGIN:VEVENT
DTSTART;VALUE=DATE:20251106
DTEND;VALUE=DATE:20251107
DTSTAMP:20260420T171431
CREATED:20250918T005150Z
LAST-MODIFIED:20250918T005150Z
UID:7698-1762387200-1762473599@www.theboathousenelson.co.nz
SUMMARY:Cafe/Live music
DESCRIPTION:Thurs 6th november\, \nCafe 10am-2pm private hire from 2pm\,
URL:https://www.theboathousenelson.co.nz/event/cafe-live-music-6/
CATEGORIES:Cafe / Bar,Live Music,Members
END:VEVENT
BEGIN:VEVENT
DTSTART;TZID=Pacific/Auckland:20251101T193000
DTEND;TZID=Pacific/Auckland:20251101T193000
DTSTAMP:20260420T171431
CREATED:20251024T010854Z
LAST-MODIFIED:20251024T010854Z
UID:7785-1762025400-1762025400@www.theboathousenelson.co.nz
SUMMARY:Cafe/Live Music
DESCRIPTION:Sat. Nov. 1st \nHallows Eve Haunting – 7 pm
URL:https://www.theboathousenelson.co.nz/event/cafe-live-music-10/
LOCATION:The Boathouse
CATEGORIES:Live Music
END:VEVENT
BEGIN:VEVENT
DTSTART;VALUE=DATE:20251031
DTEND;VALUE=DATE:20251101
DTSTAMP:20260420T171431
CREATED:20250918T004820Z
LAST-MODIFIED:20250918T004820Z
UID:7695-1761868800-1761955199@www.theboathousenelson.co.nz
SUMMARY:Cafe/ Live music
DESCRIPTION:Friday 31st oct \nCafe 10am-2pm\, The Bees Gees show 8pm
URL:https://www.theboathousenelson.co.nz/event/cafe-live-music-5/
LOCATION:The Boathouse
CATEGORIES:Cafe / Bar,Committee Meeting,Live Music
END:VEVENT
BEGIN:VEVENT
DTSTART;VALUE=DATE:20251028
DTEND;VALUE=DATE:20251029
DTSTAMP:20260420T171431
CREATED:20250918T004435Z
LAST-MODIFIED:20250918T004435Z
UID:7692-1761609600-1761695999@www.theboathousenelson.co.nz
SUMMARY:Cafe/Private hire
DESCRIPTION:Tue 28th oct \nCafe 10am-2pm private hire from 2 pm
URL:https://www.theboathousenelson.co.nz/event/cafe-private-hire-10/
LOCATION:The Boathouse
CATEGORIES:Cafe / Bar,Live Music,Live show
END:VEVENT
BEGIN:VEVENT
DTSTART;VALUE=DATE:20251024
DTEND;VALUE=DATE:20251025
DTSTAMP:20260420T171431
CREATED:20250918T003526Z
LAST-MODIFIED:20250918T003526Z
UID:7687-1761264000-1761350399@www.theboathousenelson.co.nz
SUMMARY:Cafe/ Live music
DESCRIPTION:Fri 24th Oct\, \ncafe 10am – 2pm \nToo many cheifs 8pm
URL:https://www.theboathousenelson.co.nz/event/cafe-live-music-4/
LOCATION:The Boathouse
CATEGORIES:Cafe / Bar,Live Music,Live show
END:VEVENT
END:VCALENDAR