BEGIN:VCALENDAR
VERSION:2.0
PRODID:-//The Boathouse Nelson - ECPv6.15.18//NONSGML v1.0//EN
CALSCALE:GREGORIAN
METHOD:PUBLISH
X-WR-CALNAME:The Boathouse Nelson
X-ORIGINAL-URL:https://www.theboathousenelson.co.nz
X-WR-CALDESC:Events for The Boathouse Nelson
REFRESH-INTERVAL;VALUE=DURATION:PT1H
X-Robots-Tag:noindex
X-PUBLISHED-TTL:PT1H
BEGIN:VTIMEZONE
TZID:Pacific/Auckland
BEGIN:STANDARD
TZOFFSETFROM:+1300
TZOFFSETTO:+1200
TZNAME:NZST
DTSTART:20250405T140000
END:STANDARD
BEGIN:DAYLIGHT
TZOFFSETFROM:+1200
TZOFFSETTO:+1300
TZNAME:NZDT
DTSTART:20250927T140000
END:DAYLIGHT
BEGIN:STANDARD
TZOFFSETFROM:+1300
TZOFFSETTO:+1200
TZNAME:NZST
DTSTART:20260404T140000
END:STANDARD
BEGIN:DAYLIGHT
TZOFFSETFROM:+1200
TZOFFSETTO:+1300
TZNAME:NZDT
DTSTART:20260926T140000
END:DAYLIGHT
BEGIN:STANDARD
TZOFFSETFROM:+1300
TZOFFSETTO:+1200
TZNAME:NZST
DTSTART:20270403T140000
END:STANDARD
BEGIN:DAYLIGHT
TZOFFSETFROM:+1200
TZOFFSETTO:+1300
TZNAME:NZDT
DTSTART:20270925T140000
END:DAYLIGHT
END:VTIMEZONE
BEGIN:VEVENT
DTSTART;VALUE=DATE:20260501
DTEND;VALUE=DATE:20260502
DTSTAMP:20260420T153416
CREATED:20260315T034409Z
LAST-MODIFIED:20260315T034409Z
UID:8221-1777593600-1777679999@www.theboathousenelson.co.nz
SUMMARY:Cafe/Live Music
DESCRIPTION:Cafe all day \nDinner from 5 pm – book your table \nLive music from 8 pm – tickets HERE
URL:https://www.theboathousenelson.co.nz/event/cafe-live-music-30/
CATEGORIES:Cafe / Bar,Live Music
END:VEVENT
BEGIN:VEVENT
DTSTART;VALUE=DATE:20260502
DTEND;VALUE=DATE:20260503
DTSTAMP:20260420T153416
CREATED:20260315T034446Z
LAST-MODIFIED:20260315T034446Z
UID:8223-1777680000-1777766399@www.theboathousenelson.co.nz
SUMMARY:Private Hire
DESCRIPTION:Private Hire – Unavailable to use
URL:https://www.theboathousenelson.co.nz/event/private-hire-25/
CATEGORIES:Hired-not available to use
END:VEVENT
END:VCALENDAR